BEGIN:VCALENDAR
VERSION:2.0
PRODID:-//CareerNext - ECPv6.15.18//NONSGML v1.0//EN
CALSCALE:GREGORIAN
METHOD:PUBLISH
X-WR-CALNAME:CareerNext
X-ORIGINAL-URL:https://careernext.org
X-WR-CALDESC:Events for CareerNext
REFRESH-INTERVAL;VALUE=DURATION:PT1H
X-Robots-Tag:noindex
X-PUBLISHED-TTL:PT1H
BEGIN:VTIMEZONE
TZID:America/New_York
BEGIN:DAYLIGHT
TZOFFSETFROM:-0500
TZOFFSETTO:-0400
TZNAME:EDT
DTSTART:20200308T070000
END:DAYLIGHT
BEGIN:STANDARD
TZOFFSETFROM:-0400
TZOFFSETTO:-0500
TZNAME:EST
DTSTART:20201101T060000
END:STANDARD
BEGIN:DAYLIGHT
TZOFFSETFROM:-0500
TZOFFSETTO:-0400
TZNAME:EDT
DTSTART:20210314T070000
END:DAYLIGHT
BEGIN:STANDARD
TZOFFSETFROM:-0400
TZOFFSETTO:-0500
TZNAME:EST
DTSTART:20211107T060000
END:STANDARD
BEGIN:DAYLIGHT
TZOFFSETFROM:-0500
TZOFFSETTO:-0400
TZNAME:EDT
DTSTART:20220313T070000
END:DAYLIGHT
BEGIN:STANDARD
TZOFFSETFROM:-0400
TZOFFSETTO:-0500
TZNAME:EST
DTSTART:20221106T060000
END:STANDARD
END:VTIMEZONE
BEGIN:VEVENT
DTSTART;TZID=America/New_York:20210909T140000
DTEND;TZID=America/New_York:20210909T160000
DTSTAMP:20260425T114233
CREATED:20210826T213627Z
LAST-MODIFIED:20210826T213627Z
UID:8153-1631196000-1631203200@careernext.org
SUMMARY:Testing Center Open House
DESCRIPTION:You may be utilizing the Testing Center this semester\, so go take a look during the Open House! You can see where you’ll be seated during testing\, ask any questions you may have\, and learn about the equipment there that you may be unfamiliar with! \nWhere: SCCC Campus\, Elston Hall\, Room 427 \nWhen: September 9th\, 2 PM
URL:https://careernext.org/events/testing-center-open-house-4/
END:VEVENT
BEGIN:VEVENT
DTSTART;TZID=America/New_York:20210908T100000
DTEND;TZID=America/New_York:20210908T120000
DTSTAMP:20260425T114233
CREATED:20210826T213126Z
LAST-MODIFIED:20210826T213126Z
UID:8152-1631095200-1631102400@careernext.org
SUMMARY:Testing Center Open House
DESCRIPTION:You may be utilizing the Testing Center this semester\, so go take a look during the Open House! You can see where you’ll be seated during testing\, ask any questions you may have\, and learn about the equipment there that you may be unfamiliar with! \nWhere: SCCC Campus\, Elston Hall\, Room 427 \nWhen: September 8th\, 10AM-12PM \n 
URL:https://careernext.org/events/testing-center-open-house-3/
CATEGORIES:Schenectady
END:VEVENT
BEGIN:VEVENT
DTSTART;TZID=America/New_York:20210905T100000
DTEND;TZID=America/New_York:20210905T140000
DTSTAMP:20260425T114233
CREATED:20210902T153316Z
LAST-MODIFIED:20210902T153316Z
UID:8162-1630836000-1630850400@careernext.org
SUMMARY:Schenectady Greenmarket
DESCRIPTION:At the Greenmarket\, you can purchase fresh\, in-season produce grown by local farmers\, as well as baked goods\, cheeses\, meats\, and much more! \nWhere: 105 Jay Street\, Schenectady\, NY 12305     15 minute walk from the dorms. \nWhen: Sunday\, September 5th from 10AM-2PM. \nCost: Free entry\, but bring money if you want to purchase any items.
URL:https://careernext.org/events/schenectady-greenmarket-2/
CATEGORIES:Schenectady
END:VEVENT
BEGIN:VEVENT
DTSTART;TZID=America/New_York:20210903T113000
DTEND;TZID=America/New_York:20210903T133000
DTSTAMP:20260425T114233
CREATED:20210901T162905Z
LAST-MODIFIED:20210902T164128Z
UID:8159-1630668600-1630675800@careernext.org
SUMMARY:Student Government Open House
DESCRIPTION:Student Government Open House will take place on Friday\, September 3\, 2021 from 11:30-1:30 in the SGA Office located on the second floor of Elston outside of room 222 \n  \nCome on by if you want to join the student government because there are senate seats available!! \nAlso\, come by if you want to learn about what types of clubs are available on campus!
URL:https://careernext.org/events/student-government-open-house/
CATEGORIES:Schenectady
END:VEVENT
BEGIN:VEVENT
DTSTART;TZID=America/New_York:20210830T130000
DTEND;TZID=America/New_York:20210830T190000
DTSTAMP:20260425T114233
CREATED:20210830T154101Z
LAST-MODIFIED:20210830T154101Z
UID:8154-1630328400-1630350000@careernext.org
SUMMARY:Vaccination Celebration
DESCRIPTION:Visit the Vaccination Celebration for the chance to win a $200 gift card\, a VIP parking space\, or one of 20 other prizes! 1st and 2nd Covid-19 vaccine shots are available. There are games and food\, too! \nWhere: Elston Hall Ground Floor at SUNY SCCC \nWhen: Monday\, August 30th\, 1PM-7PM
URL:https://careernext.org/events/vaccination-celebration/
CATEGORIES:Schenectady
END:VEVENT
BEGIN:VEVENT
DTSTART;TZID=America/New_York:20210829T100000
DTEND;TZID=America/New_York:20210829T140000
DTSTAMP:20260425T114233
CREATED:20210825T152552Z
LAST-MODIFIED:20210825T152552Z
UID:8147-1630231200-1630245600@careernext.org
SUMMARY:Schenectady Greenmarket
DESCRIPTION:At the Greenmarket\, you can purchase fresh\, in-season produce grown by local farmers\, as well as baked goods\, cheeses\, meats\, and much more! \nWhere: 105 Jay Street\, Schenectady\, NY 12305     15 minute walk from the dorms. \nWhen: Sunday\, August 29th from 10AM-2PM. \nCost: Free entry\, but bring money if you want to purchase any items. \n 
URL:https://careernext.org/events/schenectadygreenmarket/
LOCATION:Schenectady City Hall\, 105 Jay Street\, Schenectady\, NY\, 12305
CATEGORIES:Schenectady
END:VEVENT
END:VCALENDAR