BEGIN:VCALENDAR
VERSION:2.0
PRODID:-//CareerNext - ECPv6.15.18//NONSGML v1.0//EN
CALSCALE:GREGORIAN
METHOD:PUBLISH
X-ORIGINAL-URL:https://careernext.org
X-WR-CALDESC:Events for CareerNext
REFRESH-INTERVAL;VALUE=DURATION:PT1H
X-Robots-Tag:noindex
X-PUBLISHED-TTL:PT1H
BEGIN:VTIMEZONE
TZID:America/New_York
BEGIN:DAYLIGHT
TZOFFSETFROM:-0500
TZOFFSETTO:-0400
TZNAME:EDT
DTSTART:20200308T070000
END:DAYLIGHT
BEGIN:STANDARD
TZOFFSETFROM:-0400
TZOFFSETTO:-0500
TZNAME:EST
DTSTART:20201101T060000
END:STANDARD
BEGIN:DAYLIGHT
TZOFFSETFROM:-0500
TZOFFSETTO:-0400
TZNAME:EDT
DTSTART:20210314T070000
END:DAYLIGHT
BEGIN:STANDARD
TZOFFSETFROM:-0400
TZOFFSETTO:-0500
TZNAME:EST
DTSTART:20211107T060000
END:STANDARD
BEGIN:DAYLIGHT
TZOFFSETFROM:-0500
TZOFFSETTO:-0400
TZNAME:EDT
DTSTART:20220313T070000
END:DAYLIGHT
BEGIN:STANDARD
TZOFFSETFROM:-0400
TZOFFSETTO:-0500
TZNAME:EST
DTSTART:20221106T060000
END:STANDARD
END:VTIMEZONE
BEGIN:VEVENT
DTSTART;TZID=America/New_York:20211029T180000
DTEND;TZID=America/New_York:20211029T200000
DTSTAMP:20260423T060217
CREATED:20211025T162319Z
LAST-MODIFIED:20211025T162319Z
UID:8299-1635530400-1635537600@careernext.org
SUMMARY:Drama Club Open Mic
DESCRIPTION:Come to the Drama Club Open Mic to show off your musical\, comedic\, poetic\, and other talents! \nIn addition\, they’re holding a Costume Contest! Please come in a costume for a chance to win gift cards and other prizes. \nIf you can’t make it in person\, post your costume on Instagram and use the hashtag #SUNYSCCCCostumeContest or email a picture to sga@sunysccc.edu. \nWhere: Lally Mohawk Room in Elston Hall \nWhen: Friday\, October 29th from 6pm-8pm
URL:https://careernext.org/events/drama-club-open-mic/
LOCATION:SUNY Schenectady
CATEGORIES:Schenectady
END:VEVENT
BEGIN:VEVENT
DTSTART;TZID=America/New_York:20211029T180000
DTEND;TZID=America/New_York:20211029T210000
DTSTAMP:20260423T060217
CREATED:20211004T152824Z
LAST-MODIFIED:20211004T152824Z
UID:8237-1635530400-1635541200@careernext.org
SUMMARY:Time Traveler Terror
DESCRIPTION:Join the Schenectady Theatre for Children Inc for their Halloween Haunt! Caution: It’s not for the faint of heart. \nWhere: Schenectady Theatre for Children Inc. at Via-Port Mall    You can take the #354 bus there and back\, it’s picks up outside of Elston! \nWhen: October 15th\, 16th\, 22nd\, 23rd\, 29th\, and 30th from 6PM-9PM \nCost: $5 each or $20 for a group of 5 \nRestrictions: You are required to wear a mask!
URL:https://careernext.org/events/time-traveler-terror-5/
CATEGORIES:Schenectady
END:VEVENT
BEGIN:VEVENT
DTSTART;TZID=America/New_York:20211029T200000
DTEND;TZID=America/New_York:20211029T220000
DTSTAMP:20260423T060217
CREATED:20211019T174536Z
LAST-MODIFIED:20211019T174536Z
UID:8291-1635537600-1635544800@careernext.org
SUMMARY:Maestro! Improv Comedy Competition
DESCRIPTION:A fast\, furious and funny improv comedy competition between improvisers of all ages\, from around the globe! This will be a HYBRID show\, meaning improvisors on the Mopco stage will be interacting with special Maestro guests from around the world. Come meet our new friends! \nJust one will remains standing after YOU score the evening’s games\, shows\, and songs! Who will win the cheese? Help make it happen in an interactive improv show like no other! \nCan’t make it to the theatre? Write us at Hey@mopco.org for a link to the streaming show! \nWhere: Mopco Improv Theatre\, 10 North Jay Street\, Schenectady     15 minute walk from dorms! \nWhen: Friday\, October 29th 8:00pm-10:00pm \nCost: $6 plus fees and you can purchase tickets here: https://www.eventbrite.com/e/maestro-at-the-mopco-tickets-178448553427?aff=ebdsoporgprofile \nRestrictions: You MUST show proof of vaccination and wear a mask!
URL:https://careernext.org/events/maestro-improv-comedy-competition/
LOCATION:Mopco Improv Theatre\, 10N Jay Street\, Schenectady\, NY\, 12305
CATEGORIES:Schenectady
END:VEVENT
END:VCALENDAR