BEGIN:VCALENDAR
VERSION:2.0
PRODID:-//CareerNext - ECPv6.15.18//NONSGML v1.0//EN
CALSCALE:GREGORIAN
METHOD:PUBLISH
X-ORIGINAL-URL:https://careernext.org
X-WR-CALDESC:Events for CareerNext
REFRESH-INTERVAL;VALUE=DURATION:PT1H
X-Robots-Tag:noindex
X-PUBLISHED-TTL:PT1H
BEGIN:VTIMEZONE
TZID:America/New_York
BEGIN:DAYLIGHT
TZOFFSETFROM:-0500
TZOFFSETTO:-0400
TZNAME:EDT
DTSTART:20200308T070000
END:DAYLIGHT
BEGIN:STANDARD
TZOFFSETFROM:-0400
TZOFFSETTO:-0500
TZNAME:EST
DTSTART:20201101T060000
END:STANDARD
BEGIN:DAYLIGHT
TZOFFSETFROM:-0500
TZOFFSETTO:-0400
TZNAME:EDT
DTSTART:20210314T070000
END:DAYLIGHT
BEGIN:STANDARD
TZOFFSETFROM:-0400
TZOFFSETTO:-0500
TZNAME:EST
DTSTART:20211107T060000
END:STANDARD
BEGIN:DAYLIGHT
TZOFFSETFROM:-0500
TZOFFSETTO:-0400
TZNAME:EDT
DTSTART:20220313T070000
END:DAYLIGHT
BEGIN:STANDARD
TZOFFSETFROM:-0400
TZOFFSETTO:-0500
TZNAME:EST
DTSTART:20221106T060000
END:STANDARD
END:VTIMEZONE
BEGIN:VEVENT
DTSTART;TZID=America/New_York:20211015T180000
DTEND;TZID=America/New_York:20211015T210000
DTSTAMP:20260421T043009
CREATED:20211004T152425Z
LAST-MODIFIED:20211004T152425Z
UID:8233-1634320800-1634331600@careernext.org
SUMMARY:Time Traveler Terror
DESCRIPTION:Join the Schenectady Theatre for Children Inc for their Halloween Haunt! Caution: It’s not for the faint of heart. \nWhere: Schenectady Theatre for Children Inc. at Via-Port Mall    You can take the #354 bus there and back\, it’s picks up outside of Elston! \nWhen: October 15th\, 16th\, 22nd\, 23rd\, 29th\, and 30th from 6PM-9PM \nCost: $5 each or $20 for a group of 5 \nRestrictions: You are required to wear a mask!
URL:https://careernext.org/events/time-traveler-terror/
CATEGORIES:Schenectady
END:VEVENT
END:VCALENDAR